BEGIN:VCALENDAR
PRODID:-//Microsoft Corporation//Outlook 12.0 MIMEDIR//EN
VERSION:2.0
METHOD:PUBLISH
X-MS-OLK-FORCEINSPECTOROPEN:TRUE
BEGIN:VEVENT
CLASS:PUBLIC
CREATED:20260425T203947Z
DTSTAMP:20260425T203947Z
DESCRIPTION:https://btpa.police.uk/meeting/audit-and-risk-committee-11/
DTSTART:20160906T120000Z
DTEND:20160906T140000Z
LOCATION:Conference Room G2\, Force Head Quarters\, 25 Camden Road\, London NW1 9LN
PRIORITY:5
SEQUENCE:0
SUMMARY;LANGUAGE=en-us:Audit and Risk committee
TRANSP:OPAQUE
UID:545465465465465465465465465465465465465465465465465469034
X-MICROSOFT-CDO-BUSYSTATUS:BUSY
X-MICROSOFT-CDO-IMPORTANCE:1
X-MICROSOFT-DISALLOW-COUNTER:FALSE
X-MS-OLK-ALLOWEXTERNCHECK:TRUE
X-MS-OLK-AUTOFILLLOCATION:FALSE
X-MS-OLK-CONFTYPE:0
BEGIN:VALARM
TRIGGER:-PT1440M
ACTION:DISPLAY
DESCRIPTION:Reminder
END:VALARM
END:VEVENT
END:VCALENDAR
