BEGIN:VCALENDAR
PRODID:-//Microsoft Corporation//Outlook 12.0 MIMEDIR//EN
VERSION:2.0
METHOD:PUBLISH
X-MS-OLK-FORCEINSPECTOROPEN:TRUE
BEGIN:VEVENT
CLASS:PUBLIC
CREATED:20260426T005144Z
DTSTAMP:20260426T005144Z
DESCRIPTION:https://btpa.police.uk/meeting/strategy-and-planning-committee-7/
DTSTART:20151126T090000Z
DTEND:20151126T110000Z
LOCATION:The Forum\, 5th Floor North\, 74-80 Camden Street\, London NW1 0EG
PRIORITY:5
SEQUENCE:0
SUMMARY;LANGUAGE=en-us:Strategy and Planning Committee
TRANSP:OPAQUE
UID:545465465465465465465465465465465465465465465465465467921
X-MICROSOFT-CDO-BUSYSTATUS:BUSY
X-MICROSOFT-CDO-IMPORTANCE:1
X-MICROSOFT-DISALLOW-COUNTER:FALSE
X-MS-OLK-ALLOWEXTERNCHECK:TRUE
X-MS-OLK-AUTOFILLLOCATION:FALSE
X-MS-OLK-CONFTYPE:0
BEGIN:VALARM
TRIGGER:-PT1440M
ACTION:DISPLAY
DESCRIPTION:Reminder
END:VALARM
END:VEVENT
END:VCALENDAR
