BEGIN:VCALENDAR
PRODID:-//Microsoft Corporation//Outlook 12.0 MIMEDIR//EN
VERSION:2.0
METHOD:PUBLISH
X-MS-OLK-FORCEINSPECTOROPEN:TRUE
BEGIN:VEVENT
CLASS:PUBLIC
CREATED:20260423T142700Z
DTSTAMP:20260423T142700Z
DESCRIPTION:https://btpa.police.uk/meeting/pension-working-group-9/
DTSTART:20220919T093000Z
DTEND:20220919T110000Z
PRIORITY:5
SEQUENCE:0
SUMMARY;LANGUAGE=en-us:[CANCELLED] Pension Working Group
TRANSP:OPAQUE
UID:5454654654654654654654654654654654654654654654654654613312
X-MICROSOFT-CDO-BUSYSTATUS:BUSY
X-MICROSOFT-CDO-IMPORTANCE:1
X-MICROSOFT-DISALLOW-COUNTER:FALSE
X-MS-OLK-ALLOWEXTERNCHECK:TRUE
X-MS-OLK-AUTOFILLLOCATION:FALSE
X-MS-OLK-CONFTYPE:0
BEGIN:VALARM
TRIGGER:-PT1440M
ACTION:DISPLAY
DESCRIPTION:Reminder
END:VALARM
END:VEVENT
END:VCALENDAR
