BEGIN:VCALENDAR
PRODID:-//Microsoft Corporation//Outlook 12.0 MIMEDIR//EN
VERSION:2.0
METHOD:PUBLISH
X-MS-OLK-FORCEINSPECTOROPEN:TRUE
BEGIN:VEVENT
CLASS:PUBLIC
CREATED:20260419T174624Z
DTSTAMP:20260419T174624Z
DESCRIPTION:https://btpa.police.uk/meeting/audit-risk-committee-9/
DTSTART:20200910T090000Z
DTEND:20200910T120000Z
LOCATION:Microsoft Teams 
PRIORITY:5
SEQUENCE:0
SUMMARY;LANGUAGE=en-us:Audit and Risk Committee
TRANSP:OPAQUE
UID:5454654654654654654654654654654654654654654654654654611614
X-MICROSOFT-CDO-BUSYSTATUS:BUSY
X-MICROSOFT-CDO-IMPORTANCE:1
X-MICROSOFT-DISALLOW-COUNTER:FALSE
X-MS-OLK-ALLOWEXTERNCHECK:TRUE
X-MS-OLK-AUTOFILLLOCATION:FALSE
X-MS-OLK-CONFTYPE:0
BEGIN:VALARM
TRIGGER:-PT1440M
ACTION:DISPLAY
DESCRIPTION:Reminder
END:VALARM
END:VEVENT
END:VCALENDAR
