BEGIN:VCALENDAR
PRODID:-//Microsoft Corporation//Outlook 12.0 MIMEDIR//EN
VERSION:2.0
METHOD:PUBLISH
X-MS-OLK-FORCEINSPECTOROPEN:TRUE
BEGIN:VEVENT
CLASS:PUBLIC
CREATED:20260425T121243Z
DTSTAMP:20260425T121243Z
DESCRIPTION:https://btpa.police.uk/meeting/policing-plan-group-11/
DTSTART:20171013T120000Z
DTEND:20171013T133000Z
LOCATION:Meeting Room\, 2nd Floor Holmes House\, Holmes Terrace\, Waterloo\, SE1 8BL
PRIORITY:5
SEQUENCE:0
SUMMARY;LANGUAGE=en-us:Policing Plan Group
TRANSP:OPAQUE
UID:5454654654654654654654654654654654654654654654654654610612
X-MICROSOFT-CDO-BUSYSTATUS:BUSY
X-MICROSOFT-CDO-IMPORTANCE:1
X-MICROSOFT-DISALLOW-COUNTER:FALSE
X-MS-OLK-ALLOWEXTERNCHECK:TRUE
X-MS-OLK-AUTOFILLLOCATION:FALSE
X-MS-OLK-CONFTYPE:0
BEGIN:VALARM
TRIGGER:-PT1440M
ACTION:DISPLAY
DESCRIPTION:Reminder
END:VALARM
END:VEVENT
END:VCALENDAR
